BEGIN:VCALENDAR
VERSION:2.0
PRODID:-//www.admidio.org//Admidio3.3.14//DE
CALSCALE:GREGORIAN
METHOD:PUBLISH
X-WR-TIMEZONE:Europe/Vienna
BEGIN:VTIMEZONE
TZID:Europe/Vienna
X-LIC-LOCATION:Europe/Vienna
BEGIN:STANDARD
DTSTART:19701025T030000
TZOFFSETFROM:+0200
TZOFFSETTO:+0100
TZNAME:CET
RRULE:FREQ=YEARLY;BYDAY=-1SU;BYMONTH=10
END:STANDARD
BEGIN:DAYLIGHT
DTSTART:19700329T020000
TZOFFSETFROM:+0100
TZOFFSETTO:+0200
TZNAME:CEST
RRULE:FREQ=YEARLY;BYDAY=-1SU;BYMONTH=3
END:DAYLIGHT
END:VTIMEZONE
BEGIN:VEVENT
CREATED:20200629T081328
LAST-MODIFIED:
UID:20200629T081328+2@bico.alink.li
SUMMARY:TEsttermion
DESCRIPTION:
DTSTAMP:20260425T123411
LOCATION:GRaz
DTSTART;TZID=Europe/Vienna:20200630T090000
DTEND;TZID=Europe/Vienna:20200630T110000
END:VEVENT
END:VCALENDAR